BEGIN:VCALENDAR
VERSION:2.0
PRODID:-//hacksw/handcal//NONSGML v1.0//EN
BEGIN:VEVENT
SUMMARY:Entrainement
UID:05adfef4-d7f3-4396-81c2-59000a703693
DTSTART:20260307T090000Z
DTEND:20260307T130000Z
LOCATION:Localisation   
CATEGORIES:Entrainement
STATUS:
DESCRIPTION:Entrainement pour toutes les equipes afin de preparer les
 prochains matchs.
URL;VALUE=URI:https://fr-blanzat-basket.sportsregions.fr/evenements/2026/03/07/entrainement-2424820
END:VEVENT
END:VCALENDAR
